BEGIN:VCALENDAR
VERSION:2.0
PRODID:-//UiT//iKnowBase//NO
BEGIN:VTIMEZONE
TZID:Europe/Oslo
BEGIN:DAYLIGHT
TZOFFSETFROM:+0100
RRULE:FREQ=YEARLY;BYMONTH=3;BYDAY=-1SU
DTSTART:19810329T020000
TZNAME:CEST
TZOFFSETTO:+0200
END:DAYLIGHT
BEGIN:STANDARD
TZOFFSETFROM:+0200
RRULE:FREQ=YEARLY;BYMONTH=10;BYDAY=-1SU
DTSTART:19961027T030000
TZNAME:CET
TZOFFSETTO:+0100
END:STANDARD
END:VTIMEZONE
BEGIN:VEVENT
DTSTAMP:20160715T134500
UID:1776600208463-470707@uit.no
DTEND;TZID=Europe/Oslo:20160715T134500
ORGANIZER;CN=UiT:MAILTO:else.g.broderstad@uit.no
TRANSP:OPAQUE
DESCRIPTION:https://uit.no/go/target/470707
BEGIN:VALARM
TRIGGER:-PT15M
REPEAT:1
DURATION:PT15M
ACTION:DISPLAY
DESCRIPTION:Reminder
END:VALARM
SUMMARY:UIT-seminára Riddu Riđđu-festiválas 2016
DTSTART;TZID=Europe/Oslo:20160715T113000
LOCATION:Riddu Riđđu, Manndalen
END:VEVENT
END:VCALENDAR
