BEGIN:VCALENDAR
VERSION:2.0
PRODID:-//UiT//iKnowBase//NO
CALSCALE:GREGORIAN
METHOD:PUBLISH
BEGIN:VEVENT
SUMMARY:Meet the Minds: Scientific mingling forum for young ...
UID:1776963871445-926461@uit.no
SEQUENCE:0
STATUS:CONFIRMED
TRANSP:OPAQUE
DTSTART:20260512T110000
DTEND:20260512T140000
DTSTAMP:20260512T140000
ORGANIZER;CN=UiT:MAILTO:pyro.board@helsefak.uit.no
LOCATION:https://uit.no/go/target/926461
DESCRIPTION:Troms&oslash;
BEGIN:VALARM
TRIGGER:-PT15M
REPEAT:1
DURATION:PT15M
ACTION:DISPLAY
DESCRIPTION:Reminder
END:VALARM
END:VEVENT
END:VCALENDAR
