BEGIN:VCALENDAR
VERSION:2.0
PRODID:-//UiT//iKnowBase//NO
CALSCALE:GREGORIAN
METHOD:PUBLISH
BEGIN:VEVENT
SUMMARY:Open Science Lunch – Self-plagiarism does not make sense
UID:1776963871230-926439@uit.no
SEQUENCE:0
STATUS:CONFIRMED
TRANSP:OPAQUE
DTSTART:20260528T120000
DTEND:20260528T130000
DTSTAMP:20260528T130000
ORGANIZER;CN=UiT:MAILTO:postmottak@uit.no
LOCATION:https://uit.no/go/target/926439
DESCRIPTION:Digitalt
BEGIN:VALARM
TRIGGER:-PT15M
REPEAT:1
DURATION:PT15M
ACTION:DISPLAY
DESCRIPTION:Reminder
END:VALARM
END:VEVENT
END:VCALENDAR
