BEGIN:VCALENDAR
VERSION:2.0
PRODID:-//UiT//iKnowBase//NO
CALSCALE:GREGORIAN
METHOD:PUBLISH
BEGIN:VEVENT
SUMMARY:Sluttlesning - Stine A Ingebrigtsen v/ ILP
UID:1776963911253-926434@uit.no
SEQUENCE:0
STATUS:CONFIRMED
TRANSP:OPAQUE
DTSTART:20260429T100000
DTEND:20260429T130000
DTSTAMP:20260429T130000
ORGANIZER;CN=UiT:MAILTO:postmottak@uit.no
LOCATION:https://uit.no/go/target/926434
DESCRIPTION:Digitalt, Troms&oslash;
BEGIN:VALARM
TRIGGER:-PT15M
REPEAT:1
DURATION:PT15M
ACTION:DISPLAY
DESCRIPTION:Reminder
END:VALARM
END:VEVENT
END:VCALENDAR
