BEGIN:VCALENDAR
VERSION:2.0
PRODID:-//UiT//iKnowBase//NO
CALSCALE:GREGORIAN
METHOD:PUBLISH
BEGIN:VEVENT
SUMMARY:EUGLOHs videokonkurranse 2026 / EUGLOH Video Contest 2026
UID:1777054242081-926412@uit.no
SEQUENCE:0
STATUS:CONFIRMED
TRANSP:OPAQUE
DTSTART:20260416T120000
DTEND:20260531T235900
DTSTAMP:20260531T235900
ORGANIZER;CN=UiT:MAILTO:gortva-konya.monika@szte.hu
LOCATION:https://www.eugloh.eu/courses-trainings/events/eugloh-vid...
DESCRIPTION:Digitalt
BEGIN:VALARM
TRIGGER:-PT15M
REPEAT:1
DURATION:PT15M
ACTION:DISPLAY
DESCRIPTION:Reminder
END:VALARM
END:VEVENT
END:VCALENDAR
