BEGIN:VCALENDAR
VERSION:2.0
PRODID:-//UiT//iKnowBase//NO
CALSCALE:GREGORIAN
METHOD:PUBLISH
BEGIN:VEVENT
SUMMARY:DOBBEL OMVISNING | Ládjogahpir - først på Nordnorsk ...
UID:1776943959931-926370@uit.no
SEQUENCE:0
STATUS:CONFIRMED
TRANSP:OPAQUE
DTSTART:20260506T170000
DTEND:20260506T190000
DTSTAMP:20260506T190000
ORGANIZER;CN=UiT:MAILTO:siri.a.holmoy@uit.no
LOCATION:https://uit.no/go/target/926370
DESCRIPTION:Troms&oslash;
BEGIN:VALARM
TRIGGER:-PT15M
REPEAT:1
DURATION:PT15M
ACTION:DISPLAY
DESCRIPTION:Reminder
END:VALARM
END:VEVENT
END:VCALENDAR
