BEGIN:VCALENDAR
VERSION:2.0
PRODID:-//UiT//iKnowBase//NO
CALSCALE:GREGORIAN
METHOD:PUBLISH
BEGIN:VEVENT
SUMMARY:Filosofiske Samtaler: Kan CO2 bli en ressurs? Mikroalgen ...
UID:1776943959969-926332@uit.no
SEQUENCE:0
STATUS:CONFIRMED
TRANSP:OPAQUE
DTSTART:20260425T111500
DTEND:20260425T130000
DTSTAMP:20260425T130000
ORGANIZER;CN=UiT:MAILTO:fredrik.nilsen@uit.no
LOCATION:https://uit.no/go/target/926332
DESCRIPTION:Annet
BEGIN:VALARM
TRIGGER:-PT15M
REPEAT:1
DURATION:PT15M
ACTION:DISPLAY
DESCRIPTION:Reminder
END:VALARM
END:VEVENT
END:VCALENDAR
