BEGIN:VCALENDAR
VERSION:2.0
PRODID:-//UiT//iKnowBase//NO
CALSCALE:GREGORIAN
METHOD:PUBLISH
BEGIN:VEVENT
SUMMARY:Fysikk for biologi / Physics for Biology
UID:1776723113343-926216@uit.no
SEQUENCE:0
STATUS:CONFIRMED
TRANSP:OPAQUE
DTSTART:20260601T090000
DTEND:20260604T120000
DTSTAMP:20260604T120000
ORGANIZER;CN=UiT:MAILTO:claire.marrache@ijclab.in2p3.fr
LOCATION:https://www.eugloh.eu/courses-trainings/activities/physic...
DESCRIPTION:Annet
BEGIN:VALARM
TRIGGER:-PT15M
REPEAT:1
DURATION:PT15M
ACTION:DISPLAY
DESCRIPTION:Reminder
END:VALARM
END:VEVENT
END:VCALENDAR
