BEGIN:VCALENDAR
VERSION:2.0
PRODID:-//UiT//iKnowBase//NO
CALSCALE:GREGORIAN
METHOD:PUBLISH
BEGIN:VEVENT
SUMMARY:Conceptualizing Sámi Communities: Sámi internationalism ...
UID:1776600208564-925940@uit.no
SEQUENCE:0
STATUS:CONFIRMED
TRANSP:OPAQUE
DTSTART:20260520T103000
DTEND:20260520T120000
DTSTAMP:20260520T120000
ORGANIZER;CN=UiT:MAILTO:jonathan.crossen@uit.no
LOCATION:https://uit.no/go/target/925940
DESCRIPTION:Digitalt, Troms&oslash;
BEGIN:VALARM
TRIGGER:-PT15M
REPEAT:1
DURATION:PT15M
ACTION:DISPLAY
DESCRIPTION:Reminder
END:VALARM
END:VEVENT
END:VCALENDAR
