BEGIN:VCALENDAR
VERSION:2.0
PRODID:-//UiT//iKnowBase//NO
CALSCALE:GREGORIAN
METHOD:PUBLISH
BEGIN:VEVENT
SUMMARY:Tromsø Educational Film Festival (TREFF) + EUGLOH = SANT
UID:1776674093727-923892@uit.no
SEQUENCE:0
STATUS:CONFIRMED
TRANSP:OPAQUE
DTSTART:20260415T083000
DTEND:20260417T143000
DTSTAMP:20260417T143000
ORGANIZER;CN=UiT:MAILTO:tiia.gron@uit.no
LOCATION:https://uit.no/go/target/923892
DESCRIPTION:Troms&oslash;
BEGIN:VALARM
TRIGGER:-PT15M
REPEAT:1
DURATION:PT15M
ACTION:DISPLAY
DESCRIPTION:Reminder
END:VALARM
END:VEVENT
END:VCALENDAR
