BEGIN:VCALENDAR
VERSION:2.0
PRODID:-//UiT//iKnowBase//NO
CALSCALE:GREGORIAN
METHOD:PUBLISH
BEGIN:VEVENT
SUMMARY:EUGLOHs vårskole for stipendiater 2026 / EUGLOH PhD ...
UID:1776855424489-923844@uit.no
SEQUENCE:0
STATUS:CONFIRMED
TRANSP:OPAQUE
DTSTART:20260506T080000
DTEND:20260508T160000
DTSTAMP:20260508T160000
ORGANIZER;CN=UiT:MAILTO:marinkovicdragan@hotmail.com
LOCATION:https://www.eugloh.eu/courses-trainings/activities/eugloh...
DESCRIPTION:Digitalt, Annet
BEGIN:VALARM
TRIGGER:-PT15M
REPEAT:1
DURATION:PT15M
ACTION:DISPLAY
DESCRIPTION:Reminder
END:VALARM
END:VEVENT
END:VCALENDAR
