BEGIN:VCALENDAR
VERSION:2.0
PRODID:-//UiT//iKnowBase//NO
CALSCALE:GREGORIAN
METHOD:PUBLISH
BEGIN:VEVENT
SUMMARY:Kurs om granskning av kriminelle handlinger begått mot ...
UID:1777016475737-923833@uit.no
SEQUENCE:0
STATUS:CONFIRMED
TRANSP:OPAQUE
DTSTART:20260608T090000
DTEND:20260610T160000
DTSTAMP:20260610T160000
ORGANIZER;CN=UiT:MAILTO:ana.gigosos@uah.es
LOCATION:https://www.eugloh.eu/courses-trainings/activities/crime-...
DESCRIPTION:Digitalt, Annet
BEGIN:VALARM
TRIGGER:-PT15M
REPEAT:1
DURATION:PT15M
ACTION:DISPLAY
DESCRIPTION:Reminder
END:VALARM
END:VEVENT
END:VCALENDAR
