BEGIN:VCALENDAR
VERSION:2.0
PRODID:-//UiT//iKnowBase//NO
CALSCALE:GREGORIAN
METHOD:PUBLISH
BEGIN:VEVENT
SUMMARY:Arctic Sun Celebration 2026: "What does AI do to us? AI ...
UID:1777060663654-922090@uit.no
SEQUENCE:0
STATUS:CONFIRMED
TRANSP:OPAQUE
DTSTART:20260423T120000
DTEND:20260423T150000
DTSTAMP:20260423T150000
ORGANIZER;CN=UiT:MAILTO:mari.buck@uit.no
LOCATION:https://uit.no/go/target/922090
DESCRIPTION:Troms&oslash;
BEGIN:VALARM
TRIGGER:-PT15M
REPEAT:1
DURATION:PT15M
ACTION:DISPLAY
DESCRIPTION:Reminder
END:VALARM
END:VEVENT
END:VCALENDAR
