BEGIN:VCALENDAR
VERSION:2.0
PRODID:-//UiT//iKnowBase//NO
CALSCALE:GREGORIAN
METHOD:PUBLISH
BEGIN:VEVENT
SUMMARY:Invitasjon til avslutning for kull 2023 ved IHO Hammerfest
UID:1776614736901-922026@uit.no
SEQUENCE:0
STATUS:CONFIRMED
TRANSP:OPAQUE
DTSTART:20260529T110000
DTEND:20260529T130000
DTSTAMP:20260529T130000
ORGANIZER;CN=UiT:MAILTO:sissel.baardsen@uit.no
LOCATION:https://uit.no/go/target/922026
DESCRIPTION:Hammerfest
BEGIN:VALARM
TRIGGER:-PT15M
REPEAT:1
DURATION:PT15M
ACTION:DISPLAY
DESCRIPTION:Reminder
END:VALARM
END:VEVENT
END:VCALENDAR
