BEGIN:VCALENDAR
VERSION:2.0
PRODID:-//UiT//iKnowBase//NO
CALSCALE:GREGORIAN
METHOD:PUBLISH
BEGIN:VEVENT
SUMMARY:Do you want to advance the Arctic Humanities in an ...
UID:1776674131620-921962@uit.no
SEQUENCE:0
STATUS:CONFIRMED
TRANSP:OPAQUE
DTSTART:20260413T090000
DTEND:20260417T160000
DTSTAMP:20260417T160000
ORGANIZER;CN=UiT:MAILTO:lilli.mittner@uit.no
LOCATION:https://uit.no/go/target/921962
DESCRIPTION:Annet
BEGIN:VALARM
TRIGGER:-PT15M
REPEAT:1
DURATION:PT15M
ACTION:DISPLAY
DESCRIPTION:Reminder
END:VALARM
END:VEVENT
END:VCALENDAR
