BEGIN:VCALENDAR
VERSION:2.0
PRODID:-//UiT//iKnowBase//NO
CALSCALE:GREGORIAN
METHOD:PUBLISH
BEGIN:VEVENT
SUMMARY:Into the mountains and home again - alive! InnoHub ...
UID:1776779888879-921921@uit.no
SEQUENCE:0
STATUS:CONFIRMED
TRANSP:OPAQUE
DTSTART:20260312T113000
DTEND:20260312T130000
DTSTAMP:20260312T130000
ORGANIZER;CN=UiT:MAILTO:bernd.k.striberny@uit.no
LOCATION:https://uit.no/go/target/921921
DESCRIPTION:Troms&oslash;
BEGIN:VALARM
TRIGGER:-PT15M
REPEAT:1
DURATION:PT15M
ACTION:DISPLAY
DESCRIPTION:Reminder
END:VALARM
END:VEVENT
END:VCALENDAR
