BEGIN:VCALENDAR
VERSION:2.0
PRODID:-//UiT//iKnowBase//NO
CALSCALE:GREGORIAN
METHOD:PUBLISH
BEGIN:VEVENT
SUMMARY:Konferanse om anvendt etikk
UID:1776614736938-921893@uit.no
SEQUENCE:0
STATUS:CONFIRMED
TRANSP:OPAQUE
DTSTART:20260608T090000
DTEND:20260609T160000
DTSTAMP:20260609T160000
ORGANIZER;CN=UiT:MAILTO:fredrik.nilsen@uit.no
LOCATION:https://uit.no/go/target/921893
DESCRIPTION:Troms&oslash;
BEGIN:VALARM
TRIGGER:-PT15M
REPEAT:1
DURATION:PT15M
ACTION:DISPLAY
DESCRIPTION:Reminder
END:VALARM
END:VEVENT
END:VCALENDAR
