BEGIN:VCALENDAR
VERSION:2.0
PRODID:-//UiT//iKnowBase//NO
CALSCALE:GREGORIAN
METHOD:PUBLISH
BEGIN:VEVENT
SUMMARY:Velkommen til gratis frokost og filmvisning!
UID:1776674131581-921644@uit.no
SEQUENCE:0
STATUS:CONFIRMED
TRANSP:OPAQUE
DTSTART:20260327T080000
DTEND:20260327T090000
DTSTAMP:20260327T090000
ORGANIZER;CN=UiT:MAILTO:bjorn.vang@uit.no
LOCATION:https://uit.no/go/target/921644
DESCRIPTION:Harstad
BEGIN:VALARM
TRIGGER:-PT15M
REPEAT:1
DURATION:PT15M
ACTION:DISPLAY
DESCRIPTION:Reminder
END:VALARM
END:VEVENT
END:VCALENDAR
