BEGIN:VCALENDAR
VERSION:2.0
PRODID:-//UiT//iKnowBase//NO
CALSCALE:GREGORIAN
METHOD:PUBLISH
BEGIN:VEVENT
SUMMARY:Midtveisevaluering - Miriam Wiik
UID:1776610772841-921413@uit.no
SEQUENCE:0
STATUS:CONFIRMED
TRANSP:OPAQUE
DTSTART:20260225T090000
DTEND:20260225T094500
DTSTAMP:20260225T094500
ORGANIZER;CN=UiT:MAILTO:silje.b.tollefsen@uit.no
LOCATION:https://uit.no/go/target/921413
DESCRIPTION:Troms&oslash;
BEGIN:VALARM
TRIGGER:-PT15M
REPEAT:1
DURATION:PT15M
ACTION:DISPLAY
DESCRIPTION:Reminder
END:VALARM
END:VEVENT
END:VCALENDAR
