BEGIN:VCALENDAR
VERSION:2.0
PRODID:-//UiT//iKnowBase//NO
CALSCALE:GREGORIAN
METHOD:PUBLISH
BEGIN:VEVENT
SUMMARY:Nordic AMR Conference 2026, Helsinki
UID:1777057907468-920725@uit.no
SEQUENCE:0
STATUS:CONFIRMED
TRANSP:OPAQUE
DTSTART:20260304T180000
DTEND:20260306T154500
DTSTAMP:20260306T154500
ORGANIZER;CN=UiT:MAILTO:nordic-amr2026@helsinki.fi
LOCATION:https://uit.no/go/target/920725
DESCRIPTION:Annet
BEGIN:VALARM
TRIGGER:-PT15M
REPEAT:1
DURATION:PT15M
ACTION:DISPLAY
DESCRIPTION:Reminder
END:VALARM
END:VEVENT
END:VCALENDAR
