BEGIN:VCALENDAR
VERSION:2.0
PRODID:-//UiT//iKnowBase//NO
CALSCALE:GREGORIAN
METHOD:PUBLISH
BEGIN:VEVENT
SUMMARY:Sivilisasjonen har allerede kollapset. I USA. Under Trump.
UID:1777055139869-918930@uit.no
SEQUENCE:0
STATUS:CONFIRMED
TRANSP:OPAQUE
DTSTART:20260507T120000
DTEND:20260507T133000
DTSTAMP:20260507T133000
ORGANIZER;CN=UiT:MAILTO:bjorn.vang@uit.no
LOCATION:https://uit.no/go/target/918930
DESCRIPTION:Harstad
BEGIN:VALARM
TRIGGER:-PT15M
REPEAT:1
DURATION:PT15M
ACTION:DISPLAY
DESCRIPTION:Reminder
END:VALARM
END:VEVENT
END:VCALENDAR
