BEGIN:VCALENDAR
VERSION:2.0
PRODID:-//UiT//iKnowBase//NO
CALSCALE:GREGORIAN
METHOD:PUBLISH
BEGIN:VEVENT
SUMMARY:CRAFT & ENCODE present: Johnny Mnemonic (1995)
UID:1777072549139-918664@uit.no
SEQUENCE:0
STATUS:CONFIRMED
TRANSP:OPAQUE
DTSTART:20260210T180000
DTEND:20260210T203000
DTSTAMP:20260210T203000
ORGANIZER;CN=UiT:MAILTO:zoheb.mashiur@uit.no
LOCATION:https://uit.no/go/target/918664
DESCRIPTION:Troms&oslash;
BEGIN:VALARM
TRIGGER:-PT15M
REPEAT:1
DURATION:PT15M
ACTION:DISPLAY
DESCRIPTION:Reminder
END:VALARM
END:VEVENT
END:VCALENDAR
