BEGIN:VCALENDAR
VERSION:2.0
PRODID:-//UiT//iKnowBase//NO
CALSCALE:GREGORIAN
METHOD:PUBLISH
BEGIN:VEVENT
SUMMARY:Innovation Days: Immersive technologies bridging art ...
UID:1776674131436-918341@uit.no
SEQUENCE:0
STATUS:CONFIRMED
TRANSP:OPAQUE
DTSTART:20260118T100000
DTEND:20260327T170000
DTSTAMP:20260327T170000
ORGANIZER;CN=UiT:MAILTO:veronique.tibayrenc@universite-paris-saclay.fr
LOCATION:https://www.eugloh.eu/courses-trainings/activities/innova...
DESCRIPTION:Digitalt
BEGIN:VALARM
TRIGGER:-PT15M
REPEAT:1
DURATION:PT15M
ACTION:DISPLAY
DESCRIPTION:Reminder
END:VALARM
END:VEVENT
END:VCALENDAR
