BEGIN:VCALENDAR
VERSION:2.0
PRODID:-//UiT//iKnowBase//NO
CALSCALE:GREGORIAN
METHOD:PUBLISH
BEGIN:VEVENT
SUMMARY:Fagseminar: Evakuering for alle - universell utforming ...
UID:1777162245482-918119@uit.no
SEQUENCE:0
STATUS:CONFIRMED
TRANSP:OPAQUE
DTSTART:20260225T083000
DTEND:20260225T134500
DTSTAMP:20260225T134500
ORGANIZER;CN=UiT:MAILTO:chinwe.p.oramah@uit.no
LOCATION:https://uit.no/go/target/918119
DESCRIPTION:Digitalt, Harstad
BEGIN:VALARM
TRIGGER:-PT15M
REPEAT:1
DURATION:PT15M
ACTION:DISPLAY
DESCRIPTION:Reminder
END:VALARM
END:VEVENT
END:VCALENDAR
