BEGIN:VCALENDAR
VERSION:2.0
PRODID:-//UiT//iKnowBase//NO
CALSCALE:GREGORIAN
METHOD:PUBLISH
BEGIN:VEVENT
SUMMARY:The World through the ‘Eye’ of the Robot Camera: ...
UID:1776758326065-917985@uit.no
SEQUENCE:0
STATUS:CONFIRMED
TRANSP:OPAQUE
DTSTART:20260121T140000
DTEND:20260121T160000
DTSTAMP:20260121T160000
ORGANIZER;CN=UiT:MAILTO:pro000@uit.no
LOCATION:https://www.tiff.no/en/film/98a12fc6-6f57-4d20-a97b-bc87a...
DESCRIPTION:Troms&oslash;
BEGIN:VALARM
TRIGGER:-PT15M
REPEAT:1
DURATION:PT15M
ACTION:DISPLAY
DESCRIPTION:Reminder
END:VALARM
END:VEVENT
END:VCALENDAR
