BEGIN:VCALENDAR
VERSION:2.0
PRODID:-//UiT//iKnowBase//NO
CALSCALE:GREGORIAN
METHOD:PUBLISH
BEGIN:VEVENT
SUMMARY:Tirsdagskurs med ITA: Lagring av filer i OneDrive
UID:1776991796852-916787@uit.no
SEQUENCE:0
STATUS:CONFIRMED
TRANSP:OPAQUE
DTSTART:20260113T131500
DTEND:20260113T140000
DTSTAMP:20260113T140000
ORGANIZER;CN=UiT:MAILTO:mhy006@uit.no
LOCATION:https://uit.no/go/target/916787
DESCRIPTION:Digitalt
BEGIN:VALARM
TRIGGER:-PT15M
REPEAT:1
DURATION:PT15M
ACTION:DISPLAY
DESCRIPTION:Reminder
END:VALARM
END:VEVENT
END:VCALENDAR
