BEGIN:VCALENDAR
VERSION:2.0
PRODID:-//UiT//iKnowBase//NO
CALSCALE:GREGORIAN
METHOD:PUBLISH
BEGIN:VEVENT
SUMMARY:Trial Lecture - Master of Science Torbjørn Tveito
UID:1776603121397-916108@uit.no
SEQUENCE:0
STATUS:CONFIRMED
TRANSP:OPAQUE
DTSTART:20251219T101500
DTEND:20251219T111500
DTSTAMP:20251219T111500
ORGANIZER;CN=UiT:MAILTO:daniels.sliks@uit.no
LOCATION:https://uit.no/go/target/916108
DESCRIPTION:Digitalt, Troms&oslash;
BEGIN:VALARM
TRIGGER:-PT15M
REPEAT:1
DURATION:PT15M
ACTION:DISPLAY
DESCRIPTION:Reminder
END:VALARM
END:VEVENT
END:VCALENDAR
