BEGIN:VCALENDAR
VERSION:2.0
PRODID:-//UiT//iKnowBase//NO
CALSCALE:GREGORIAN
METHOD:PUBLISH
BEGIN:VEVENT
SUMMARY:Environmental humanities gathering #61: Planning session
UID:1777078872190-915967@uit.no
SEQUENCE:0
STATUS:CONFIRMED
TRANSP:OPAQUE
DTSTART:20260107T100000
DTEND:20260107T110000
DTSTAMP:20260107T110000
ORGANIZER;CN=UiT:MAILTO:Kate.Maxwell@uit.no
LOCATION:https://uit.no/go/target/915967
DESCRIPTION:Digitalt
BEGIN:VALARM
TRIGGER:-PT15M
REPEAT:1
DURATION:PT15M
ACTION:DISPLAY
DESCRIPTION:Reminder
END:VALARM
END:VEVENT
END:VCALENDAR
