BEGIN:VCALENDAR
VERSION:2.0
PRODID:-//UiT//iKnowBase//NO
CALSCALE:GREGORIAN
METHOD:PUBLISH
BEGIN:VEVENT
SUMMARY:InnoHub kick-off party
UID:1776779840351-915863@uit.no
SEQUENCE:0
STATUS:CONFIRMED
TRANSP:OPAQUE
DTSTART:20260107T093000
DTEND:20260107T150000
DTSTAMP:20260107T150000
ORGANIZER;CN=UiT:MAILTO:bernd.k.striberny@uit.no
LOCATION:https://en.uit.no/ansatte/person?p_document_id=887768
DESCRIPTION:Troms&oslash;
BEGIN:VALARM
TRIGGER:-PT15M
REPEAT:1
DURATION:PT15M
ACTION:DISPLAY
DESCRIPTION:Reminder
END:VALARM
END:VEVENT
END:VCALENDAR
