BEGIN:VCALENDAR
VERSION:2.0
PRODID:-//UiT//iKnowBase//NO
CALSCALE:GREGORIAN
METHOD:PUBLISH
BEGIN:VEVENT
SUMMARY:FeedbackFruits – Få dypere innsikt og teknisk forståelse
UID:1776997710523-914269@uit.no
SEQUENCE:0
STATUS:CONFIRMED
TRANSP:OPAQUE
DTSTART:20251126T121500
DTEND:20251126T131500
DTSTAMP:20251126T131500
ORGANIZER;CN=UiT:MAILTO:rikke.ditlefsen@uit.no
LOCATION:https://uit.no/go/target/914269
DESCRIPTION:Digitalt
BEGIN:VALARM
TRIGGER:-PT15M
REPEAT:1
DURATION:PT15M
ACTION:DISPLAY
DESCRIPTION:Reminder
END:VALARM
END:VEVENT
END:VCALENDAR
