BEGIN:VCALENDAR
VERSION:2.0
PRODID:-//UiT//iKnowBase//NO
CALSCALE:GREGORIAN
METHOD:PUBLISH
BEGIN:VEVENT
SUMMARY:Innovasjonsdag UiT i Harstad - del 1
UID:1776731070857-913662@uit.no
SEQUENCE:0
STATUS:CONFIRMED
TRANSP:OPAQUE
DTSTART:20251202T103000
DTEND:20251202T120000
DTSTAMP:20251202T120000
ORGANIZER;CN=UiT:MAILTO:tomas.rolland@uit.no
LOCATION:https://uit.no/go/target/913662
DESCRIPTION:Harstad
BEGIN:VALARM
TRIGGER:-PT15M
REPEAT:1
DURATION:PT15M
ACTION:DISPLAY
DESCRIPTION:Reminder
END:VALARM
END:VEVENT
END:VCALENDAR
