BEGIN:VCALENDAR
VERSION:2.0
PRODID:-//UiT//iKnowBase//NO
CALSCALE:GREGORIAN
METHOD:PUBLISH
BEGIN:VEVENT
SUMMARY:CRAFT & ENCODE present: A Clockwork Orange (1971)
UID:1776753101226-913275@uit.no
SEQUENCE:0
STATUS:CONFIRMED
TRANSP:OPAQUE
DTSTART:20251111T173000
DTEND:20251111T203000
DTSTAMP:20251111T203000
ORGANIZER;CN=UiT:MAILTO:zoheb.mashiur@uit.no
LOCATION:https://www.verdensteatret.no/movie/a-clockwork-orange-2
DESCRIPTION:Troms&oslash;
BEGIN:VALARM
TRIGGER:-PT15M
REPEAT:1
DURATION:PT15M
ACTION:DISPLAY
DESCRIPTION:Reminder
END:VALARM
END:VEVENT
END:VCALENDAR
