BEGIN:VCALENDAR
VERSION:2.0
PRODID:-//UiT//iKnowBase//NO
CALSCALE:GREGORIAN
METHOD:PUBLISH
BEGIN:VEVENT
SUMMARY:NoBiCC project meeting at Umeå University
UID:1776613314617-912930@uit.no
SEQUENCE:0
STATUS:CONFIRMED
TRANSP:OPAQUE
DTSTART:20251028T083000
DTEND:20251029T150000
DTSTAMP:20251029T150000
ORGANIZER;CN=UiT:MAILTO:leif-gunnar.hanssen@uit.no
LOCATION:https://uit.no/go/target/912930
DESCRIPTION:Annet
BEGIN:VALARM
TRIGGER:-PT15M
REPEAT:1
DURATION:PT15M
ACTION:DISPLAY
DESCRIPTION:Reminder
END:VALARM
END:VEVENT
END:VCALENDAR
