BEGIN:VCALENDAR
VERSION:2.0
PRODID:-//UiT//iKnowBase//NO
CALSCALE:GREGORIAN
METHOD:PUBLISH
BEGIN:VEVENT
SUMMARY:MiMa Kick-off meeting
UID:1776880226128-907646@uit.no
SEQUENCE:0
STATUS:CONFIRMED
TRANSP:OPAQUE
DTSTART:20251118T110000
DTEND:20251119T130000
DTSTAMP:20251119T130000
ORGANIZER;CN=UiT:MAILTO:Pauline.cavanagh@uit.no
LOCATION:https://uit.no/go/target/907646
DESCRIPTION:Troms&oslash;
BEGIN:VALARM
TRIGGER:-PT15M
REPEAT:1
DURATION:PT15M
ACTION:DISPLAY
DESCRIPTION:Reminder
END:VALARM
END:VEVENT
END:VCALENDAR
