BEGIN:VCALENDAR
VERSION:2.0
PRODID:-//UiT//iKnowBase//NO
CALSCALE:GREGORIAN
METHOD:PUBLISH
BEGIN:VEVENT
SUMMARY:Innovation breakfast; How to turn your ideas into reality?
UID:1776717556905-907024@uit.no
SEQUENCE:0
STATUS:CONFIRMED
TRANSP:OPAQUE
DTSTART:20250925T090000
DTEND:20250925T100000
DTSTAMP:20250925T100000
ORGANIZER;CN=UiT:MAILTO:elisabeth.b.bakkelund@uit.no
LOCATION:https://uit.no/go/target/907024
DESCRIPTION:Digitalt
BEGIN:VALARM
TRIGGER:-PT15M
REPEAT:1
DURATION:PT15M
ACTION:DISPLAY
DESCRIPTION:Reminder
END:VALARM
END:VEVENT
END:VCALENDAR
