BEGIN:VCALENDAR
VERSION:2.0
PRODID:-//UiT//iKnowBase//NO
CALSCALE:GREGORIAN
METHOD:PUBLISH
BEGIN:VEVENT
SUMMARY:CRAFT & ENCODE present: Metropolis (2001)
UID:1776753081603-905303@uit.no
SEQUENCE:0
STATUS:CONFIRMED
TRANSP:OPAQUE
DTSTART:20250916T180000
DTEND:20250916T200000
DTSTAMP:20250916T200000
ORGANIZER;CN=UiT:MAILTO:zoheb.mashiur@uit.no
LOCATION:https://www.verdensteatret.no/movie/osamu-tezukas-metropolis
DESCRIPTION:Troms&oslash;
BEGIN:VALARM
TRIGGER:-PT15M
REPEAT:1
DURATION:PT15M
ACTION:DISPLAY
DESCRIPTION:Reminder
END:VALARM
END:VEVENT
END:VCALENDAR
