BEGIN:VCALENDAR
VERSION:2.0
PRODID:-//UiT//iKnowBase//NO
CALSCALE:GREGORIAN
METHOD:PUBLISH
BEGIN:VEVENT
SUMMARY:Anatomien til medisin- og matplanter / Anatomy of ...
UID:1776610772240-883508@uit.no
SEQUENCE:0
STATUS:CONFIRMED
TRANSP:OPAQUE
DTSTART:20251016T090000
DTEND:20251125T140000
DTSTAMP:20251125T140000
ORGANIZER;CN=UiT:MAILTO:natasa.hrabovski@uns.ac.rs
LOCATION:https://www.eugloh.eu/courses-trainings/activities/anatom...
DESCRIPTION:Digitalt, Annet
BEGIN:VALARM
TRIGGER:-PT15M
REPEAT:1
DURATION:PT15M
ACTION:DISPLAY
DESCRIPTION:Reminder
END:VALARM
END:VEVENT
END:VCALENDAR
