BEGIN:VCALENDAR
VERSION:2.0
PRODID:-//UiT//iKnowBase//NO
CALSCALE:GREGORIAN
METHOD:PUBLISH
BEGIN:VEVENT
SUMMARY:Tiny Villages workshop series – Fall 2025
UID:1777172712439-883313@uit.no
SEQUENCE:0
STATUS:CONFIRMED
TRANSP:OPAQUE
DTSTART:20250919T090000
DTEND:20251205T130000
DTSTAMP:20251205T130000
ORGANIZER;CN=UiT:MAILTO:lars.oscarsson@ltubusiness.se
LOCATION:https://uit.no/go/target/883313
DESCRIPTION:Annet
BEGIN:VALARM
TRIGGER:-PT15M
REPEAT:1
DURATION:PT15M
ACTION:DISPLAY
DESCRIPTION:Reminder
END:VALARM
END:VEVENT
END:VCALENDAR
