BEGIN:VCALENDAR
VERSION:2.0
PRODID:-//UiT//iKnowBase//NO
CALSCALE:GREGORIAN
METHOD:PUBLISH
BEGIN:VEVENT
SUMMARY:Sustainable Construction Visions for Arctic Living – ...
UID:1777172712521-882898@uit.no
SEQUENCE:0
STATUS:CONFIRMED
TRANSP:OPAQUE
DTSTART:20250812T090000
DTEND:20250814T150000
DTSTAMP:20250814T150000
ORGANIZER;CN=UiT:MAILTO:elina.yli-luukko@rakennusklusteri.fi
LOCATION:https://uit.no/go/target/882898
DESCRIPTION:Annet
BEGIN:VALARM
TRIGGER:-PT15M
REPEAT:1
DURATION:PT15M
ACTION:DISPLAY
DESCRIPTION:Reminder
END:VALARM
END:VEVENT
END:VCALENDAR
