BEGIN:VCALENDAR
VERSION:2.0
PRODID:-//UiT//iKnowBase//NO
CALSCALE:GREGORIAN
METHOD:PUBLISH
BEGIN:VEVENT
SUMMARY:Seminar on Developments in the Law of State Immunity
UID:1777024541734-880874@uit.no
SEQUENCE:0
STATUS:CONFIRMED
TRANSP:OPAQUE
DTSTART:20251120T083000
DTEND:20251120T171500
DTSTAMP:20251120T171500
ORGANIZER;CN=UiT:MAILTO:gaiane.nuridzhanian@uit.no
LOCATION:https://uit.no/go/target/880874
DESCRIPTION:Troms&oslash;
BEGIN:VALARM
TRIGGER:-PT15M
REPEAT:1
DURATION:PT15M
ACTION:DISPLAY
DESCRIPTION:Reminder
END:VALARM
END:VEVENT
END:VCALENDAR
