BEGIN:VCALENDAR
VERSION:2.0
PRODID:-//UiT//iKnowBase//NO
CALSCALE:GREGORIAN
METHOD:PUBLISH
BEGIN:VEVENT
SUMMARY:Møte for medlemmer av Akademikerne i Narvik
UID:1776901290747-880607@uit.no
SEQUENCE:0
STATUS:CONFIRMED
TRANSP:OPAQUE
DTSTART:20250527T130000
DTEND:20250527T140000
DTSTAMP:20250527T140000
ORGANIZER;CN=UiT:MAILTO:andreas.h.bakke@uit.no
LOCATION:https://uit.no/go/target/880607
DESCRIPTION:Narvik
BEGIN:VALARM
TRIGGER:-PT15M
REPEAT:1
DURATION:PT15M
ACTION:DISPLAY
DESCRIPTION:Reminder
END:VALARM
END:VEVENT
END:VCALENDAR
