BEGIN:VCALENDAR
VERSION:2.0
PRODID:-//UiT//iKnowBase//NO
CALSCALE:GREGORIAN
METHOD:PUBLISH
BEGIN:VEVENT
SUMMARY:Deltagelse med foredrag i Blå Uke
UID:1777063924114-879964@uit.no
SEQUENCE:0
STATUS:CONFIRMED
TRANSP:OPAQUE
DTSTART:20250520T120000
DTEND:20250520T130000
DTSTAMP:20250520T130000
ORGANIZER;CN=UiT:MAILTO:helge.fredriksen@uit.no
LOCATION:https://uit.no/go/target/879964
DESCRIPTION:Bod&oslash;
BEGIN:VALARM
TRIGGER:-PT15M
REPEAT:1
DURATION:PT15M
ACTION:DISPLAY
DESCRIPTION:Reminder
END:VALARM
END:VEVENT
END:VCALENDAR
