BEGIN:VCALENDAR
VERSION:2.0
PRODID:-//UiT//iKnowBase//NO
CALSCALE:GREGORIAN
METHOD:PUBLISH
BEGIN:VEVENT
SUMMARY:Ungdata fagsamling for kommuner i Nordland, Svolvær ...
UID:1776674784408-877303@uit.no
SEQUENCE:0
STATUS:CONFIRMED
TRANSP:OPAQUE
DTSTART:20250924T100000
DTEND:20250925T140000
DTSTAMP:20250925T140000
ORGANIZER;CN=UiT:MAILTO:henriette.kyrrestad@uit.no
LOCATION:https://uit.no/go/target/877303
DESCRIPTION:Annet
BEGIN:VALARM
TRIGGER:-PT15M
REPEAT:1
DURATION:PT15M
ACTION:DISPLAY
DESCRIPTION:Reminder
END:VALARM
END:VEVENT
END:VCALENDAR
