BEGIN:VCALENDAR
VERSION:2.0
PRODID:-//UiT//iKnowBase//NO
CALSCALE:GREGORIAN
METHOD:PUBLISH
BEGIN:VEVENT
SUMMARY:Second status meeting and workshop NoBiCC in Oulu in ...
UID:1776613314966-875760@uit.no
SEQUENCE:0
STATUS:CONFIRMED
TRANSP:OPAQUE
DTSTART:20250408T200000
DTEND:20250410T160000
DTSTAMP:20250410T160000
ORGANIZER;CN=UiT:MAILTO:leif-gunnar@hanssen.no
LOCATION:https://uit.no/go/target/875760
DESCRIPTION:Annet
BEGIN:VALARM
TRIGGER:-PT15M
REPEAT:1
DURATION:PT15M
ACTION:DISPLAY
DESCRIPTION:Reminder
END:VALARM
END:VEVENT
END:VCALENDAR
