BEGIN:VCALENDAR
VERSION:2.0
PRODID:-//UiT//iKnowBase//NO
CALSCALE:GREGORIAN
METHOD:PUBLISH
BEGIN:VEVENT
SUMMARY:Nettkurs: Hvordan vi forholder oss til mangfold – å ...
UID:1776603121538-863681@uit.no
SEQUENCE:0
STATUS:CONFIRMED
TRANSP:OPAQUE
DTSTART:20241112T180000
DTEND:20241112T190000
DTSTAMP:20241112T190000
ORGANIZER;CN=UiT:MAILTO:k.dijk@ikk.lmu.de
LOCATION:https://www.eugloh.eu/courses-trainings/events/dealing-wi...
DESCRIPTION:Digitalt
BEGIN:VALARM
TRIGGER:-PT15M
REPEAT:1
DURATION:PT15M
ACTION:DISPLAY
DESCRIPTION:Reminder
END:VALARM
END:VEVENT
END:VCALENDAR
