BEGIN:VCALENDAR
VERSION:2.0
PRODID:-//UiT//iKnowBase//NO
CALSCALE:GREGORIAN
METHOD:PUBLISH
BEGIN:VEVENT
SUMMARY:HPC Office Hours: Instant support for National Research ...
UID:1776679122847-860921@uit.no
SEQUENCE:0
STATUS:CONFIRMED
TRANSP:OPAQUE
DTSTART:20241009T130000
DTEND:20241009T150000
DTSTAMP:20241009T150000
ORGANIZER;CN=UiT:MAILTO:hpc@uit.no
LOCATION:https://hpc.uit.no/contact/
DESCRIPTION:Digitalt, Troms&oslash;
BEGIN:VALARM
TRIGGER:-PT15M
REPEAT:1
DURATION:PT15M
ACTION:DISPLAY
DESCRIPTION:Reminder
END:VALARM
END:VEVENT
END:VCALENDAR
