BEGIN:VCALENDAR
VERSION:2.0
PRODID:-//UiT//iKnowBase//NO
CALSCALE:GREGORIAN
METHOD:PUBLISH
BEGIN:VEVENT
SUMMARY:KOMsnakk: Hvordan bruke de digitale kanalene på UiT? Hva ...
UID:1777156413985-858476@uit.no
SEQUENCE:0
STATUS:CONFIRMED
TRANSP:OPAQUE
DTSTART:20250227T100000
DTEND:20250227T110000
DTSTAMP:20250227T110000
ORGANIZER;CN=UiT:MAILTO:roy.m.osterbol@uit.no
LOCATION:https://uit.no/go/target/858476
DESCRIPTION:Digitalt
BEGIN:VALARM
TRIGGER:-PT15M
REPEAT:1
DURATION:PT15M
ACTION:DISPLAY
DESCRIPTION:Reminder
END:VALARM
END:VEVENT
END:VCALENDAR
