BEGIN:VCALENDAR
VERSION:2.0
PRODID:-//UiT//iKnowBase//NO
CALSCALE:GREGORIAN
METHOD:PUBLISH
BEGIN:VEVENT
SUMMARY:Kurs i fasilitering
UID:1776848492692-846773@uit.no
SEQUENCE:0
STATUS:CONFIRMED
TRANSP:OPAQUE
DTSTART:20240611T090000
DTEND:20240612T150000
DTSTAMP:20240612T150000
ORGANIZER;CN=UiT:MAILTO:svein.are.tjeldnes@uit.no
LOCATION:https://uit.no/go/target/846773
DESCRIPTION:Troms&oslash;
BEGIN:VALARM
TRIGGER:-PT15M
REPEAT:1
DURATION:PT15M
ACTION:DISPLAY
DESCRIPTION:Reminder
END:VALARM
END:VEVENT
END:VCALENDAR
