BEGIN:VCALENDAR
VERSION:2.0
PRODID:-//UiT//iKnowBase//NO
CALSCALE:GREGORIAN
METHOD:PUBLISH
BEGIN:VEVENT
SUMMARY: Law and Disinformation workshop
UID:1776610798377-844566@uit.no
SEQUENCE:0
STATUS:CONFIRMED
TRANSP:OPAQUE
DTSTART:20241024T083000
DTEND:20241024T171500
DTSTAMP:20241024T171500
ORGANIZER;CN=UiT:MAILTO:gaiane.nuridzhanian@uit.no
LOCATION:https://en.uit.no/ansatte/person?p_document_id=771921
DESCRIPTION:Troms&oslash;
BEGIN:VALARM
TRIGGER:-PT15M
REPEAT:1
DURATION:PT15M
ACTION:DISPLAY
DESCRIPTION:Reminder
END:VALARM
END:VEVENT
END:VCALENDAR
