BEGIN:VCALENDAR
VERSION:2.0
PRODID:-//UiT//iKnowBase//NO
CALSCALE:GREGORIAN
METHOD:PUBLISH
BEGIN:VEVENT
SUMMARY:Valget i Russland – hva handler det om?
UID:1776855576602-839716@uit.no
SEQUENCE:0
STATUS:CONFIRMED
TRANSP:OPAQUE
DTSTART:20240229T180000
DTEND:20240229T193000
DTSTAMP:20240229T193000
ORGANIZER;CN=UiT:MAILTO:postmottak@uit.no
LOCATION:https://uit.no/go/target/839716
DESCRIPTION:Troms&oslash;
BEGIN:VALARM
TRIGGER:-PT15M
REPEAT:1
DURATION:PT15M
ACTION:DISPLAY
DESCRIPTION:Reminder
END:VALARM
END:VEVENT
END:VCALENDAR
